BEGIN:VCALENDAR
VERSION:2.0
PRODID:-//Heavy Vehicle Industry Australia - ECPv6.15.20//NONSGML v1.0//EN
CALSCALE:GREGORIAN
METHOD:PUBLISH
X-ORIGINAL-URL:https://hvia.asn.au
X-WR-CALDESC:Events for Heavy Vehicle Industry Australia
REFRESH-INTERVAL;VALUE=DURATION:PT1H
X-Robots-Tag:noindex
X-PUBLISHED-TTL:PT1H
BEGIN:VTIMEZONE
TZID:Australia/Melbourne
BEGIN:STANDARD
TZOFFSETFROM:+1100
TZOFFSETTO:+1000
TZNAME:AEST
DTSTART:20250405T160000
END:STANDARD
BEGIN:DAYLIGHT
TZOFFSETFROM:+1000
TZOFFSETTO:+1100
TZNAME:AEDT
DTSTART:20251004T160000
END:DAYLIGHT
BEGIN:STANDARD
TZOFFSETFROM:+1100
TZOFFSETTO:+1000
TZNAME:AEST
DTSTART:20260404T160000
END:STANDARD
BEGIN:DAYLIGHT
TZOFFSETFROM:+1000
TZOFFSETTO:+1100
TZNAME:AEDT
DTSTART:20261003T160000
END:DAYLIGHT
BEGIN:STANDARD
TZOFFSETFROM:+1100
TZOFFSETTO:+1000
TZNAME:AEST
DTSTART:20270403T160000
END:STANDARD
BEGIN:DAYLIGHT
TZOFFSETFROM:+1000
TZOFFSETTO:+1100
TZNAME:AEDT
DTSTART:20271002T160000
END:DAYLIGHT
END:VTIMEZONE
BEGIN:VEVENT
DTSTART;TZID=Australia/Melbourne:20260305T090000
DTEND;TZID=Australia/Melbourne:20260305T120000
DTSTAMP:20260422T203030
CREATED:20260203T231531Z
LAST-MODIFIED:20260218T013124Z
UID:15719-1772701200-1772712000@hvia.asn.au
SUMMARY:HVIA Member Forum - Victoria
DESCRIPTION:HVIA Member Forums provide an opportunity for members to engage in discussion and decision-making on a broad range of issues affecting the industry including advocacy\, technical and regulatory information and workforce development initiatives. \nDownload meeting agenda here. \nMembers who wish to contribute agenda items or have an issue discussed in “General Business” are welcome to contact a.ritzinger@hvia.asn.au. \n[ REGISTER HERE ]
URL:https://hvia.asn.au/event/hvia-member-forum-victoria-5mar26/
LOCATION:CMV Truck & Bus Dealership\, 392 Boundary Road\, Derrimut\, Melbourne\, Victoria\, 3026\, Australia
CATEGORIES:Members Forums
ATTACH;FMTTYPE=image/webp:https://hvia.asn.au/wp-content/uploads/2024/06/vic-oct-23-state-committee-meeting.webp
ORGANIZER;CN="HVIA":MAILTO:hvia@hvia.asn.au
END:VEVENT
END:VCALENDAR