BEGIN:VCALENDAR
VERSION:2.0
PRODID:-//HVIA - ECPv4.9.14//NONSGML v1.0//EN
CALSCALE:GREGORIAN
METHOD:PUBLISH
X-WR-CALNAME:HVIA
X-ORIGINAL-URL:https://hvia.asn.au
X-WR-CALDESC:Events for HVIA
BEGIN:VTIMEZONE
TZID:UTC
BEGIN:STANDARD
TZOFFSETFROM:+0000
TZOFFSETTO:+0000
TZNAME:UTC
DTSTART:20200101T000000
END:STANDARD
TZID:Australia/Brisbane
BEGIN:STANDARD
TZOFFSETFROM:+1000
TZOFFSETTO:+1000
TZNAME:AEST
DTSTART:20200101T000000
END:STANDARD
END:VTIMEZONE
BEGIN:VEVENT
DTSTART;TZID=UTC:20200228T090000
DTEND;TZID=UTC:20200228T120000
DTSTAMP:20200224T185053
CREATED:20200129T100007Z
LAST-MODIFIED:20200224T070853Z
UID:4718-1582880400-1582891200@hvia.asn.au
SUMMARY:HVIA State Committee – Vic
DESCRIPTION:HVIA State Committees have been established to provide an opportunity for members to engage in discussion and decision-making on a range of topical issues currently affecting the industry such as Government advocacy\, technical and regulatory information and workforce development initiatives \nClick the link to access the meeting agenda and notes. \nSpecial guest speaker: Martin Toomey ARTSA \nThe Victorian State Committee will be chaired by HVIA Vice President\, Mario Colosimo (SAF-Holland). \nMembers who wish to contribute agenda items or have an issue discussed in “General Business” are welcome to contact HVIA Victorian Industry Relations Manager\, Neil Richardson at n.richardson@hvia.asn.au. \nPLEASE NOTE: THE REGISTRATION BELOW IS NOT COMPATIBLE WITH “INTERNET EXPLORER” BROWSER. \nPLEASE USE AN ALTERNATIVE BROWSER E.G. CHROME\, SAFARI\, FIREFOX\, MICROSOFT EDGE \n
URL:https://hvia.asn.au/event/hvia-state-committee-vic-2/
LOCATION:Victorian Transport Association (VTA) Office\, Level 1 Mirrat House\, 46 Kooringa Way\, Port Melbourne\, Victoria\, 3207\, Australia
CATEGORIES:Members Only
ATTACH;FMTTYPE=image/jpeg:https://hvia.asn.au/wp-content/uploads/Vic-State-Committee-071119IMG_0087-scaled-e1579604259486.jpg
ORGANIZER;CN="Teagan%20Hadley":MAILTO:t.hadley@hvia.asn.au
END:VEVENT
BEGIN:VEVENT
DTSTART;TZID=Australia/Brisbane:20200421T090000
DTEND;TZID=Australia/Brisbane:20200421T120000
DTSTAMP:20200224T185053
CREATED:20200203T233009Z
LAST-MODIFIED:20200220T055528Z
UID:5078-1587459600-1587470400@hvia.asn.au
SUMMARY:HVIA State Committee - QLD
DESCRIPTION:State Committees have been established to provide an opportunity for members to engage in discussion and decision-making on a range of topical issues currently affecting the industry such as Government advocacy\, technical and regulatory information and workforce development initiatives \nComing soon meeting agenda and notes. \nSpecial guest speaker: TBC \nThe Queensland State Committee will be chaired by HVIA President\, John Drake (Drake Trailers). \nMembers who wish to contribute agenda items or have an issue discussed in “General Business” are welcome to contact HVIA Eastern Region Manager\, Paul Woodland at p.woodland@hvia.asn.au. \nTHE REGISTRATION BELOW IS NOT COMPATIBLE WITH “INTERNET EXPLORER” BROWSER. \nPLEASE USE AN ALTERNATIVE BROWSER E.G. CHROME\, SAFARI\, FIREFOX\, MICROSOFT EDGE \n
URL:https://hvia.asn.au/event/hvia-state-committee-qld/
LOCATION:HVIA office – Brisbane\, 2/115 Bluestone Circuit\,\, Seventeen Mile Rocks\, QLD\, 4073\, Australia
CATEGORIES:Free Event,Members Only
ATTACH;FMTTYPE=image/jpeg:https://hvia.asn.au/wp-content/uploads/State-Committee-BNE-IMG_1820-640x430ii.jpg
ORGANIZER;CN="Teagan%20Hadley":MAILTO:t.hadley@hvia.asn.au
END:VEVENT
BEGIN:VEVENT
DTSTART;TZID=UTC:20200422T090000
DTEND;TZID=UTC:20200422T123000
DTSTAMP:20200224T185053
CREATED:20200218T234812Z
LAST-MODIFIED:20200219T011032Z
UID:5466-1587546000-1587558600@hvia.asn.au
SUMMARY:HVIA State Committee Meeting - NSW
DESCRIPTION:State Committees have been established to provide an opportunity for members to engage in discussion and decision-making on a range of topical issues currently affecting the industry such as Government advocacy\, technical and regulatory information and workforce development initiatives \nClick Here to access meeting agenda \nSpecial guest speaker: TBC  \nThe NSW State Committee will be chaired by HVIA Director\, Ken Cowell (KD Cowell & Associates). \nMembers who wish to contribute agenda items or have an issue discussed in “General Business” are welcome to contact HVIA Eastern Region Manager\, Paul Woodland at p.woodland@hvia.asn.au. \nPLEASE NOTE: THE REGISTRATION BELOW IS NOT COMPATIBLE WITH “INTERNET EXPLORER” BROWSER. \nPLEASE USE AN ALTERNATIVE BROWSER E.G. CHROME\, SAFARI\, FIREFOX\, MICROSOFT EDGE \n
URL:https://hvia.asn.au/event/hvia-state-committee-meeting-nsw/
LOCATION:Mounties Function Centre\, 247 Humphries Road\, Mount Pritchard\, NSW\, 2170\, Australia
CATEGORIES:Free Event,Members Only
ATTACH;FMTTYPE=image/jpeg:https://hvia.asn.au/wp-content/uploads/3653241000002309021_Products_photo.png
ORGANIZER;CN="Teagan%20Hadley":MAILTO:t.hadley@hvia.asn.au
END:VEVENT
BEGIN:VEVENT
DTSTART;VALUE=DATE:20200513
DTEND;VALUE=DATE:20200516
DTSTAMP:20200224T185053
CREATED:20191209T034634Z
LAST-MODIFIED:20200130T022629Z
UID:2409-1589328000-1589587199@hvia.asn.au
SUMMARY:ComVec 2020
DESCRIPTION:ComVec 2020 – Drive-day | Conference | Showcase\nAustralia’s heavy vehicle technology and innovation event\nEvery two years HVIA is honoured to facilitate the Southern Hemisphere’s largest showcase of vehicles\, components and technology at the Brisbane Truck Show. \nThe event plays an important role in the industry calendar and with the release of new models into the market. \nComVec 2020 is the follow-up event – to put all the meat on the bones. It is one thing to see all this technology on display; it is altogether another to start planning for integrating the equipment into your fleet. \nYou want to know that the equipment will deliver on its promise\, and will be backed with the level of support\, parts and servicing infrastructure\, necessary to keep your fleet on the road. \nComVec 2020 is a practical showcase and multi-streamed forum delivering the knowledge and support to take your heavy vehicle fleet into the next decade and beyond. \nThe final day is a drive-day where you can get into the driver’s seat in the latest vehicles\, on a closed test track\, in a variety of modular combinations. \nAnd the kitchen sink: While vehicles are out on the track\, exhibitors will facilitate short info sessions about their vehicles\, technology or components – a great opportunity to introduce your product and explain how it suits their task. \nComVec 2020 runs from Wednesday 13 – Friday 15 May at the RACV Royal Pines Resort on the Gold Coast. \n
URL:https://hvia.asn.au/event/comvec-2020/
LOCATION:Victoria
CATEGORIES:All welcome
ATTACH;FMTTYPE=image/jpeg:https://hvia.asn.au/wp-content/uploads/BTS19-ComVec1466-1054.jpg
END:VEVENT
BEGIN:VEVENT
DTSTART;TZID=UTC:20200602T090000
DTEND;TZID=UTC:20200602T120000
DTSTAMP:20200224T185053
CREATED:20200221T003138Z
LAST-MODIFIED:20200221T012551Z
UID:5517-1591088400-1591099200@hvia.asn.au
SUMMARY:HVIA State Committee – WA
DESCRIPTION:State Committees have been established to provide an opportunity for members to engage in discussion and decision-making on a range of topical issues currently affecting the industry such as Government advocacy\, technical and regulatory information and workforce development initiatives \nClick the link to access the meeting agenda and notes. \nSpecial guest speaker: TBC \nThe WA State Committee will be chaired by HVIA Director\, Rod Cunningham (Morris Finance). \nMembers who wish to contribute agenda items or have an issue discussed in “General Business” are welcome to contact HVIA North-Western Region Manager\, Greg Forbes at g.forbes@hvia.asn.au. \nPLEASE NOTE: THE REGISTRATION BELOW IS NOT COMPATIBLE WITH “INTERNET EXPLORER” BROWSER.\nPLEASE USE AN ALTERNATIVE BROWSER E.G. CHROME\, SAFARI\, FIREFOX\, MICROSOFT EDGE\n
URL:https://hvia.asn.au/event/hvia-state-committee-wa/
LOCATION:Victoria
CATEGORIES:Free Event,Members Only
ORGANIZER;CN="Teagan%20Hadley":MAILTO:t.hadley@hvia.asn.au
END:VEVENT
BEGIN:VEVENT
DTSTART;TZID=UTC:20201120T183000
DTEND;TZID=UTC:20201120T230000
DTSTAMP:20200224T185053
CREATED:20200121T113254Z
LAST-MODIFIED:20200121T113254Z
UID:4653-1605897000-1605913200@hvia.asn.au
SUMMARY:HVIA Gala Awards Dinner
DESCRIPTION:Join for a entertaining evening amongst friends and peers at the glamorous Emporium South Brisbane. \nBe there to find out who takes home each of the prestigious 2020 HVIA National Awards. \n
URL:https://hvia.asn.au/event/hvia-gala-awards-dinner/
LOCATION:Victoria
CATEGORIES:Members Only
ATTACH;FMTTYPE=image/jpeg:https://hvia.asn.au/wp-content/uploads/1525-7987-scaled-e1579605583862.jpg
END:VEVENT
BEGIN:VEVENT
DTSTART;VALUE=DATE:20210513
DTEND;VALUE=DATE:20210517
DTSTAMP:20200224T185053
CREATED:20190205T035825Z
LAST-MODIFIED:20200204T235302Z
UID:2413-1620864000-1621209599@hvia.asn.au
SUMMARY:2021 Brisbane Truck Show
DESCRIPTION:The Brisbane Truck Show will be back in 2021\nOFFICIALLY AUSTRALIA’S BEST EXHIBITION\, TRADE SHOW AND CORPORATE EVENT\nThe Brisbane Truck Show will return to the world’s best Brisbane Convention and Exhibition Centre from Thursday 13th to Sunday 16th May 2021. \nThe show has taken out two major national event awards\, being named Australia’s Best Corporate Event and Best Exhibition\, Trade or Consumer Show for the 2019 event. \nWinners of the Australian Event Awards were judged on all aspects of event management including best practice\, innovation\, marketing\, stakeholder engagement and management\, sustainability and event legacy. \nOf course\, it is great news that the show has been acknowledged by the Australian Event Awards\, however we are now busy working to ensure the 2021 edition is even better. \n
URL:https://hvia.asn.au/event/2021-brisbane-truck-show/
LOCATION:Brisbane Convention and Exhibition Centre\, cnr Merivale and Glenelg Streets\, South Bank\, Brisbane\, Queensland\, 4076\, Australia
CATEGORIES:All welcome
ATTACH;FMTTYPE=image/jpeg:https://hvia.asn.au/wp-content/uploads/BTS19-entry-1466-5448.jpg
END:VEVENT
END:VCALENDAR